BEGIN:VCALENDAR
VERSION:2.0
PRODID:-//Tukios.com/
BEGIN:VEVENT
UID:9a938718-b5f4-49cf-a88b-986b4debdbc1@www.burrier-queen.com
DTSTAMP:20260421T014358Z
DTSTART:20260423T140000Z
DTEND:20260423T150000Z
SUMMARY:Funeral Service
DESCRIPTION:
URL:https://www.burrier-queen.com/obituaries/natalie-mantegna
LOCATION:St. Joseph Catholic Church 915 Liberty Road  Sykesville MD 21784
GEO:39.4057152;-76.9641884
END:VEVENT
END:VCALENDAR