BEGIN:VCALENDAR
VERSION:2.0
PRODID:-//Tukios.com/
BEGIN:VEVENT
UID:ff5701d1-5d16-460d-be5f-36a3d4ec0131@www.burrier-queen.com
DTSTAMP:20260421T014149Z
DTSTART:20260422T190000Z
DTEND:20260422T210000Z
SUMMARY:Visitation
DESCRIPTION:
URL:https://www.burrier-queen.com/obituaries/natalie-mantegna
LOCATION: 1212 W Old Liberty Rd  Sykesville MD 21784
GEO:39.4418169;-77.0395703
END:VEVENT
END:VCALENDAR