BEGIN:VCALENDAR
VERSION:2.0
PRODID:-//Tukios.com/
BEGIN:VEVENT
UID:59741d41-0d7b-4401-b6aa-fa401898bdc1@www.burrier-queen.com
DTSTAMP:20260425T010347Z
DTSTART:20260509T170000Z
DTEND:20260509T180000Z
SUMMARY:Celebration of Life
DESCRIPTION:
URL:https://www.burrier-queen.com/obituaries/michael-honaker
LOCATION:Calvary Baptist Church 3200 Ridge Road  Westminster MD 21157
GEO:39.4866509;-77.0596172
END:VEVENT
END:VCALENDAR