BEGIN:VCALENDAR
VERSION:2.0
PRODID:-//Tukios.com/
BEGIN:VEVENT
UID:93fa8802-12dc-4bc3-be46-3e43847608d9@www.burrier-queen.com
DTSTAMP:20260420T225000Z
DTSTART:20260429T150000Z
DTEND:20260429T160000Z
SUMMARY:Memorial Service
DESCRIPTION:
URL:https://www.burrier-queen.com/obituaries/linda-buchwald
LOCATION:Ebenezer United Methodist Church 4901 Woodbine Road  Sykesville 
	MD 21784
GEO:39.4398067;-77.0545472
END:VEVENT
END:VCALENDAR