BEGIN:VCALENDAR
VERSION:2.0
PRODID:-//Tukios.com/
BEGIN:VEVENT
UID:ab232c00-2ac3-4a04-a383-b503b5a86316@www.burrier-queen.com
DTSTAMP:20260423T023518Z
DTSTART:20260425T160000Z
DTEND:20260425T170000Z
SUMMARY:Graveside Service
DESCRIPTION:
URL:https://www.burrier-queen.com/obituaries/jerry-savage
LOCATION: 2800 Old Westminster Pike  Finksburg MD 21048
GEO:39.505291;-76.892585
END:VEVENT
END:VCALENDAR