BEGIN:VCALENDAR
VERSION:2.0
PRODID:-//Tukios.com/
BEGIN:VEVENT
UID:800fc8d1-b5f5-40fa-986d-a745e2a2759d@www.burrier-queen.com
DTSTAMP:20260423T023351Z
DTSTART:20260425T143000Z
DTEND:20260425T153000Z
SUMMARY:Funeral Service
DESCRIPTION:
URL:https://www.burrier-queen.com/obituaries/jerry-savage
LOCATION: 1212 W Old Liberty Rd  Sykesville MD 21784
GEO:39.4418169;-77.0395703
END:VEVENT
END:VCALENDAR