BEGIN:VCALENDAR
VERSION:2.0
PRODID:-//Tukios.com/
BEGIN:VEVENT
UID:93597af5-defd-4d5f-83bf-9f9407d79caa@www.burrier-queen.com
DTSTAMP:20260423T023213Z
DTSTART:20260425T123000Z
DTEND:20260425T143000Z
SUMMARY:Visitation
DESCRIPTION:
URL:https://www.burrier-queen.com/obituaries/jerry-savage
LOCATION: 1212 W Old Liberty Rd  Sykesville MD 21784
GEO:39.4418169;-77.0395703
END:VEVENT
END:VCALENDAR