BEGIN:VCALENDAR
VERSION:2.0
PRODID:-//Tukios.com/
BEGIN:VEVENT
UID:d1e89b86-f867-4833-a6bd-a3125502f127@www.burrier-queen.com
DTSTAMP:20260424T175023Z
DTSTART:20260502T140000Z
DTEND:20260502T150000Z
SUMMARY:Funeral Service
DESCRIPTION:
URL:https://www.burrier-queen.com/obituaries/ginger-mcgregor
LOCATION:Burrier-Queen Funeral Home & Crematory 1212 W Old Liberty Rd  
	Sykesville MD 21784
GEO:39.4418169;-77.0395703
END:VEVENT
END:VCALENDAR